BEGIN:VCALENDAR
VERSION:2.0
PRODID:SchoolNow
CALSCALE:GREGORIAN
BEGIN:VEVENT
UID:0e5b0bfc-9242-11ef-be8a-0a58a9feac02
DTSTAMP:20250417T194512Z
SUMMARY:CDD Board Meeting - Apr. 2025
LOCATION:Waters Edge Clubhouse\, 9019 Creedmoor Lane\, New Port Richey\, FL
  34654 United States
URL;VALUE=URI:https://www.watersedgecdd.org/calendar/6891736/cdd-board-meet
 ing-apr-2025
DTSTART:20250424T193000Z
DTEND:20250424T203000Z
ATTACH;FILENAME=2025-04-24 - Waters Edge CDD - Final Agenda.pdf;FMTTYPE=app
 lication/pdf:https://campussuite-storage.s3.amazonaws.com/prod/1558879/047
 d3c5a-ea99-11e9-9237-0a20d2c7fac4/2942214/765c68d4-1bc4-11f0-b884-0e347610
 1ed5/file/2025-04-24 - Waters Edge CDD - Final Agenda.pdf
END:VEVENT
END:VCALENDAR
