BEGIN:VCALENDAR
VERSION:2.0
PRODID:SchoolNow
CALSCALE:GREGORIAN
BEGIN:VEVENT
UID:18271d9c-9242-11ef-9acd-0a58a9feac02
DTSTAMP:20250515T184322Z
SUMMARY:CDD Board Meeting - May 2025
LOCATION:Waters Edge Clubhouse\, 9019 Creedmoor Lane\, New Port Richey\, FL
  34654 United States
URL;VALUE=URI:https://www.watersedgecdd.org/calendar/6891737/cdd-board-meet
 ing-may-2025
DTSTART:20250522T193000Z
DTEND:20250522T203000Z
ATTACH;FILENAME=2025-05-22 - Waters Edge CDD - Final Agenda.pdf;FMTTYPE=app
 lication/pdf:https://campussuite-storage.s3.amazonaws.com/prod/1558879/047
 d3c5a-ea99-11e9-9237-0a20d2c7fac4/2954634/75ff39ee-31bc-11f0-89a1-0a58a9fe
 ac02/file/2025-05-22 - Waters Edge CDD - Final Agenda.pdf
END:VEVENT
END:VCALENDAR
