BEGIN:VCALENDAR
VERSION:2.0
PRODID:SchoolNow
CALSCALE:GREGORIAN
BEGIN:VEVENT
UID:2397e332-9242-11ef-a0e8-0a58a9feac02
DTSTAMP:20250626T142157Z
SUMMARY:CDD Board Meeting - Jun. 2025
LOCATION:Waters Edge Clubhouse\, 9019 Creedmoor Lane\, New Port Richey\, FL
  34654 United States
URL;VALUE=URI:https://www.watersedgecdd.org/calendar/6891738/cdd-board-meet
 ing-jun-2025
DTSTART:20250626T210000Z
DTEND:20250626T220000Z
ATTACH;FILENAME=2025-06-26 - Waters Edge CDD - Final Agenda (1).pdf;FMTTYPE
 =application/pdf:https://campussuite-storage.s3.amazonaws.com/prod/1558879
 /047d3c5a-ea99-11e9-9237-0a20d2c7fac4/2974520/e64ee29c-5298-11f0-b880-0a58
 a9feac02/file/2025-06-26 - Waters Edge CDD - Final Agenda (1).pdf
END:VEVENT
END:VCALENDAR
