BEGIN:VCALENDAR
VERSION:2.0
PRODID:SchoolNow
CALSCALE:GREGORIAN
BEGIN:VEVENT
UID:2c752c08-9242-11ef-bd02-0a58a9feac02
DTSTAMP:20250717T193843Z
SUMMARY:CDD Board Meeting - Jul. 2025
LOCATION:Waters Edge Clubhouse\, 9019 Creedmoor Lane\, New Port Richey\, FL
  34654 United States
URL;VALUE=URI:https://www.watersedgecdd.org/calendar/6891739/cdd-board-meet
 ing-jul-2025
DTSTART:20250724T210000Z
DTEND:20250724T220000Z
ATTACH;FILENAME=2025-07-24 - Waters Edge CDD - Final Agenda.pdf;FMTTYPE=app
 lication/pdf:https://campussuite-storage.s3.amazonaws.com/prod/1558879/047
 d3c5a-ea99-11e9-9237-0a20d2c7fac4/2982896/a122d81e-6345-11f0-b315-0a58a9fe
 ac02/file/2025-07-24 - Waters Edge CDD - Final Agenda.pdf
END:VEVENT
END:VCALENDAR
