BEGIN:VCALENDAR
VERSION:2.0
PRODID:SchoolNow
CALSCALE:GREGORIAN
BEGIN:VEVENT
UID:36636856-9242-11ef-b179-0e1e2a1376f5
DTSTAMP:20250826T193610Z
SUMMARY:CDD Board Meeting - Aug. 2025
LOCATION:Waters Edge Clubhouse\, 9019 Creedmoor Lane\, New Port Richey\, FL
  34654 United States
URL;VALUE=URI:https://www.watersedgecdd.org/calendar/6891740/cdd-board-meet
 ing-aug-2025
DTSTART:20250828T193000Z
DTEND:20250828T203000Z
ATTACH;FILENAME=2025-08-28 - Waters Edge CDD - Revised Final Agenda.pdf;FMT
 TYPE=application/pdf:https://campussuite-storage.s3.amazonaws.com/prod/155
 8879/047d3c5a-ea99-11e9-9237-0a20d2c7fac4/2999351/e5b6a572-82b3-11f0-a355-
 022e31aca1f7/file/2025-08-28 - Waters Edge CDD - Revised Final Agenda.pdf
END:VEVENT
END:VCALENDAR
