BEGIN:VCALENDAR
VERSION:2.0
PRODID:SchoolNow
CALSCALE:GREGORIAN
BEGIN:VEVENT
UID:41663f12-9242-11ef-8e83-0a58a9feac02
DTSTAMP:20250919T184806Z
SUMMARY:CDD Board Meeting - Sept. 2025
LOCATION:Waters Edge Clubhouse\, 9019 Creedmoor Lane\, New Port Richey\, FL
  34654 United States
URL;VALUE=URI:https://www.watersedgecdd.org/calendar/6891741/cdd-board-meet
 ing-sept-2025
DTSTART:20250925T193000Z
DTEND:20250925T203000Z
ATTACH;FILENAME=2025-09-25 - Waters Edge CDD - Revised Final Agenda.pdf;FMT
 TYPE=application/pdf:https://campussuite-storage.s3.amazonaws.com/prod/155
 8879/047d3c5a-ea99-11e9-9237-0a20d2c7fac4/3009417/2a536692-9589-11f0-af0a-
 0affd059ea83/file/2025-09-25 - Waters Edge CDD - Revised Final Agenda.pdf
END:VEVENT
END:VCALENDAR
