BEGIN:VCALENDAR
VERSION:2.0
PRODID:SchoolNow
CALSCALE:GREGORIAN
BEGIN:VEVENT
UID:09d74fba-2c4c-11f0-90b2-0a58a9feac02
DTSTAMP:20250508T203554Z
SUMMARY:CDD Budget Workshop - May 2025
LOCATION:Waters Edge Clubhouse\, 9019 Creedmoor Lane\, New Port Richey\, FL
  34654 United States
URL;VALUE=URI:https://www.watersedgecdd.org/calendar/8092668/cdd-budget-wor
 kshop-may-2025
DTSTART:20250515T200000Z
DTEND:20250515T210000Z
ATTACH;FILENAME=2025-05-15 - Waters Edge CDD - Budget Workshop Final Agenda
 .pdf;FMTTYPE=application/pdf:https://campussuite-storage.s3.amazonaws.com/
 prod/1558879/047d3c5a-ea99-11e9-9237-0a20d2c7fac4/2951233/04fdcf28-2c4c-11
 f0-9c22-0a58a9feac02/file/2025-05-15 - Waters Edge CDD - Budget Workshop F
 inal Agenda.pdf
END:VEVENT
END:VCALENDAR
