BEGIN:VCALENDAR
VERSION:2.0
PRODID:SchoolNow
CALSCALE:GREGORIAN
BEGIN:VEVENT
UID:ba46c00e-8db5-11f0-be19-0a58a9feac02
DTSTAMP:20251016T193537Z
SUMMARY:CDD Board Meeting - Oct. 2025
LOCATION:Waters Edge Clubhouse\, 9019 Creedmoor Lane\, New Port Richey\, FL
  34654 United States
URL;VALUE=URI:https://www.watersedgecdd.org/calendar/8601870/cdd-board-meet
 ing-oct-2025
DTSTART:20251023T193000Z
DTEND:20251023T203000Z
ATTACH;FILENAME=2025-10-23 - Waters Edge CDD - Final Agenda.pdf;FMTTYPE=app
 lication/pdf:https://campussuite-storage.s3.amazonaws.com/prod/1558879/047
 d3c5a-ea99-11e9-9237-0a20d2c7fac4/3022226/46d99900-aac7-11f0-ab22-0afff8cc
 f667/file/2025-10-23 - Waters Edge CDD - Final Agenda.pdf
END:VEVENT
END:VCALENDAR
