BEGIN:VCALENDAR
VERSION:2.0
PRODID:SchoolNow
CALSCALE:GREGORIAN
BEGIN:VEVENT
UID:cababd0a-8db5-11f0-97d6-0e014a268f33
DTSTAMP:20251209T230355Z
SUMMARY:CDD Board Meeting - Dec. 2025
LOCATION:Waters Edge Clubhouse\, 9019 Creedmoor Lane\, New Port Richey\, FL
  34654 United States
URL;VALUE=URI:https://www.watersedgecdd.org/calendar/8601873/cdd-board-meet
 ing-dec-2025
DTSTART:20251216T203000Z
DTEND:20251216T213000Z
ATTACH;FILENAME=2025-12-16 - Waters Edge CDD - Final Agenda.pdf;FMTTYPE=app
 lication/pdf:https://campussuite-storage.s3.amazonaws.com/prod/1558879/047
 d3c5a-ea99-11e9-9237-0a20d2c7fac4/3049717/5015797e-d553-11f0-aacd-0e805255
 c06f/file/2025-12-16 - Waters Edge CDD - Final Agenda.pdf
END:VEVENT
END:VCALENDAR
