BEGIN:VCALENDAR
VERSION:2.0
PRODID:SchoolNow
CALSCALE:GREGORIAN
BEGIN:VEVENT
UID:e5ab8716-8db5-11f0-afe6-0a58a9feac02
DTSTAMP:20260319T171025Z
SUMMARY:CDD Board Meeting - Mar. 2026
LOCATION:Waters Edge Clubhouse\, 9019 Creedmoor Lane\, New Port Richey\, FL
  34654 United States
URL;VALUE=URI:https://www.watersedgecdd.org/calendar/8601876/cdd-board-meet
 ing-mar-2026
DTSTART:20260326T193000Z
DTEND:20260326T203000Z
ATTACH;FILENAME=2026-03-26 - Waters Edge CDD - Final Agenda.pdf;FMTTYPE=app
 lication/pdf:https://campussuite-storage.s3.amazonaws.com/prod/1558879/047
 d3c5a-ea99-11e9-9237-0a20d2c7fac4/3081507/821f0262-23b6-11f1-aa8d-0affd3f4
 938f/file/2026-03-26 - Waters Edge CDD - Final Agenda.pdf
END:VEVENT
END:VCALENDAR
