BEGIN:VCALENDAR
VERSION:2.0
PRODID:SchoolNow
CALSCALE:GREGORIAN
BEGIN:VEVENT
UID:efde7324-8db5-11f0-a115-0e014a268f33
DTSTAMP:20260416T201555Z
SUMMARY:CDD Board Meeting - Apr. 2026
LOCATION:Waters Edge Clubhouse\, 9019 Creedmoor Lane\, New Port Richey\, FL
  34654 United States
URL;VALUE=URI:https://www.watersedgecdd.org/calendar/8601877/cdd-board-meet
 ing-apr-2026
DTSTART:20260423T193000Z
DTEND:20260423T203000Z
ATTACH;FILENAME=2026-04-23 - Waters Edge CDD - Final Agenda.pdf;FMTTYPE=app
 lication/pdf:https://campussuite-storage.s3.amazonaws.com/prod/1558879/047
 d3c5a-ea99-11e9-9237-0a20d2c7fac4/3090265/0f9ee0fa-39d1-11f1-b13a-0a58a9fe
 ac02/file/2026-04-23 - Waters Edge CDD - Final Agenda.pdf
END:VEVENT
END:VCALENDAR
