BEGIN:VCALENDAR
VERSION:2.0
PRODID:SchoolNow
CALSCALE:GREGORIAN
BEGIN:VEVENT
UID:f8f78612-8db5-11f0-8152-0a58a9feac02
DTSTAMP:20250909T194835Z
SUMMARY:CDD Board Meeting - May 2026
LOCATION:Waters Edge Clubhouse\, 9019 Creedmoor Lane\, New Port Richey\, FL
  34654 United States
URL;VALUE=URI:https://www.watersedgecdd.org/calendar/8601878/cdd-board-meet
 ing-may-2026
DTSTART:20260528T193000Z
DTEND:20260528T203000Z
END:VEVENT
END:VCALENDAR
