BEGIN:VCALENDAR
VERSION:2.0
PRODID:SchoolNow
CALSCALE:GREGORIAN
BEGIN:VEVENT
UID:01955cae-8db6-11f0-8b56-0a58a9feac02
DTSTAMP:20250909T194953Z
SUMMARY:CDD Board Meeting - Jun. 2026
LOCATION:Waters Edge Clubhouse\, 9019 Creedmoor Lane\, New Port Richey\, FL
  34654 United States
URL;VALUE=URI:https://www.watersedgecdd.org/calendar/8601879/cdd-board-meet
 ing-jun-2026
DTSTART:20260625T210000Z
DTEND:20260625T220000Z
END:VEVENT
END:VCALENDAR
