BEGIN:VCALENDAR
VERSION:2.0
PRODID:SchoolNow
CALSCALE:GREGORIAN
BEGIN:VEVENT
UID:165108e6-8db6-11f0-9107-0a58a9feac02
DTSTAMP:20250909T194924Z
SUMMARY:CDD Board Meeting - Aug. 2026
LOCATION:Waters Edge Clubhouse\, 9019 Creedmoor Lane\, New Port Richey\, FL
  34654 United States
URL;VALUE=URI:https://www.watersedgecdd.org/calendar/8601881/cdd-board-meet
 ing-aug-2026
DTSTART:20260827T193000Z
DTEND:20260827T203000Z
END:VEVENT
END:VCALENDAR
